BEGIN:VCALENDAR
VERSION:2.0
PRODID:-//Billericay Theatre - ECPv6.15.20//NONSGML v1.0//EN
CALSCALE:GREGORIAN
METHOD:PUBLISH
X-WR-CALNAME:Billericay Theatre
X-ORIGINAL-URL:https://www.thebillericaytheatre.co.uk
X-WR-CALDESC:Events for Billericay Theatre
REFRESH-INTERVAL;VALUE=DURATION:PT1H
X-Robots-Tag:noindex
X-PUBLISHED-TTL:PT1H
BEGIN:VTIMEZONE
TZID:Europe/London
BEGIN:DAYLIGHT
TZOFFSETFROM:+0000
TZOFFSETTO:+0100
TZNAME:BST
DTSTART:20210328T010000
END:DAYLIGHT
BEGIN:STANDARD
TZOFFSETFROM:+0100
TZOFFSETTO:+0000
TZNAME:GMT
DTSTART:20211031T010000
END:STANDARD
BEGIN:DAYLIGHT
TZOFFSETFROM:+0000
TZOFFSETTO:+0100
TZNAME:BST
DTSTART:20220327T010000
END:DAYLIGHT
BEGIN:STANDARD
TZOFFSETFROM:+0100
TZOFFSETTO:+0000
TZNAME:GMT
DTSTART:20221030T010000
END:STANDARD
BEGIN:DAYLIGHT
TZOFFSETFROM:+0000
TZOFFSETTO:+0100
TZNAME:BST
DTSTART:20230326T010000
END:DAYLIGHT
BEGIN:STANDARD
TZOFFSETFROM:+0100
TZOFFSETTO:+0000
TZNAME:GMT
DTSTART:20231029T010000
END:STANDARD
END:VTIMEZONE
BEGIN:VEVENT
DTSTART;VALUE=DATE:20221001
DTEND;VALUE=DATE:20221002
DTSTAMP:20260423T101521
CREATED:20220218T155427Z
LAST-MODIFIED:20220513T142833Z
UID:828-1664582400-1664668799@www.thebillericaytheatre.co.uk
SUMMARY:Kylie Tribute Show
DESCRIPTION:The Kylie sound\, the Kylie look\, the Kylie atmosphere! \nKylie on Show is the only Kylie Minogue tribute that will leave you feeling like you’ve been to see the Goddess of pop herself! \nThis fun and exciting show recreates the classic Kylie sound and stage look. Kylie On Show is the best live vocal performing tribute recreating the Australian pop diva’s charisma and sound to perfection. \nCabaret seating – Table service – Food served from our ‘Theatre Bites’ menu throughout. \nDoors 7pm/Show 8pm \nTickets £24 \nBook OnlineBook Now Call 01277 655 861
URL:https://www.thebillericaytheatre.co.uk/show/kylie-tribute-show/
CATEGORIES:Saturday Shows
ATTACH;FMTTYPE=image/jpeg:https://www.thebillericaytheatre.co.uk/wp-content/uploads/Kylie-kick-poster-blank-A4-edit.jpg
END:VEVENT
BEGIN:VEVENT
DTSTART;VALUE=DATE:20221002
DTEND;VALUE=DATE:20221003
DTSTAMP:20260423T101521
CREATED:20220617T152725Z
LAST-MODIFIED:20220617T152725Z
UID:1266-1664668800-1664755199@www.thebillericaytheatre.co.uk
SUMMARY:Sunday Soiree\, Gloria Estefan with Vicky
DESCRIPTION:‘Gloria Estefan with Vicky’  \nJoin us as we celebrate the music of Gloria Estefan with the lovely Vicky Kaylor. \nCabaret style seating – Food served from our ‘Theatre Bites’ menu throughout – 2 hour show \nDoors open 3pm/Performance 4pm \nTickets £12 \nBook OnlineBook Now Call 01277 655 861
URL:https://www.thebillericaytheatre.co.uk/show/sunday-soiree-gloria-estefan-with-vicky/
CATEGORIES:Sunday Soiree
ATTACH;FMTTYPE=image/jpeg:https://www.thebillericaytheatre.co.uk/wp-content/uploads/Vicky-Gloria-E-edit.jpg
END:VEVENT
BEGIN:VEVENT
DTSTART;VALUE=DATE:20221007
DTEND;VALUE=DATE:20221008
DTSTAMP:20260423T101521
CREATED:20220617T163855Z
LAST-MODIFIED:20220617T163855Z
UID:1269-1665100800-1665187199@www.thebillericaytheatre.co.uk
SUMMARY:Family Friday with the Showtime Squad
DESCRIPTION:Live show\, party games & disco.  \nJoin The Showtime Squad for a fun packed evening of entertainment. \nHot food available. \nDoors 6pm/Show 6.30pm \nChild £7.50 Adult £10 \n  \n  \nBook OnlineBook Now Call 01277 655 861
URL:https://www.thebillericaytheatre.co.uk/show/family-friday-with-the-showtime-squad-4/
CATEGORIES:Friday Fun,Theatre Kidz!
ATTACH;FMTTYPE=image/jpeg:https://www.thebillericaytheatre.co.uk/wp-content/uploads/1-scaled.jpg
END:VEVENT
BEGIN:VEVENT
DTSTART;VALUE=DATE:20221009
DTEND;VALUE=DATE:20221010
DTSTAMP:20260423T101521
CREATED:20220618T131701Z
LAST-MODIFIED:20220618T131701Z
UID:1278-1665273600-1665359999@www.thebillericaytheatre.co.uk
SUMMARY:Sunday Soiree\, 60's Rock n Roll with Kieran
DESCRIPTION:60’s Rock n Roll with Kieran  \nJoin us for an afternoon of rock n roll classiscs with the fantastic Kieran Rennie. \nCabaret style seating – Food served from our ‘Theatre Bites’ menu throughout – 2 hour show \nDoors open 3pm/Performance 4pm \nTickets £12 \nBook OnlineBook Now Call 01277 655 861
URL:https://www.thebillericaytheatre.co.uk/show/sunday-soiree-60s-rock-n-roll-with-kieran/
CATEGORIES:Sunday Soiree
ATTACH;FMTTYPE=image/jpeg:https://www.thebillericaytheatre.co.uk/wp-content/uploads/Kieran-rennie.jpg
END:VEVENT
BEGIN:VEVENT
DTSTART;VALUE=DATE:20221012
DTEND;VALUE=DATE:20221017
DTSTAMP:20260423T101521
CREATED:20220413T124716Z
LAST-MODIFIED:20220513T143507Z
UID:1022-1665532800-1665964799@www.thebillericaytheatre.co.uk
SUMMARY:The Wedding Singer the Musical
DESCRIPTION:It’s the year 1985. Hair is ginormous\, greed is at an all-time high\, and wannabe rockstar Robbie Hart is the most coveted wedding singer in New Jersey. When Hart’s fiancée says ‘I don’t’ at the altar\, he slips into a vengeful depression determined to make every wedding just as awful as his own. But can the kindhearted Julia and her best girlfriend Holly convince Robbie to crawl out of the dumpster and get back into the spotlight? Or will he see her walk the aisle with the Wall Street wolf Glenn? \nJoin The Billericay Theatre Company in this feel-good musical! Based on the movie of the same name\, it is sure to get your toes tapping from start to finish. \nRecommended age 12+ – Parental Guidance is suggested for this musical. \nBook OnlineBook Now Call 01277 655 861
URL:https://www.thebillericaytheatre.co.uk/show/the-wedding-singer-the-musical/
CATEGORIES:Theatre Productions
ATTACH;FMTTYPE=image/jpeg:https://www.thebillericaytheatre.co.uk/wp-content/uploads/wedding-singer-web2.jpg
END:VEVENT
BEGIN:VEVENT
DTSTART;VALUE=DATE:20221020
DTEND;VALUE=DATE:20221021
DTSTAMP:20260423T101521
CREATED:20220826T103719Z
LAST-MODIFIED:20220826T115657Z
UID:1343-1666224000-1666310399@www.thebillericaytheatre.co.uk
SUMMARY:The Rocking Horror Cocktail Show (Halloween Special)
DESCRIPTION:An early Halloween Cocktail Night inspired by the classic film!  \nLive music! Fancy dress welcome! £5 cocktails* all night! \nHot food available from the Food Hut. \n5pm – 11pm \nTickets £12 \n*Ozmopolitan\, Tina Colada\, Thoroughly Modern Mojito. Motown Martini\, Six on the Beach\, Starlight Expresso Martini\, Woo Woo Rock You \nBook OnlineBook Now Call 01277 655 861
URL:https://www.thebillericaytheatre.co.uk/show/the-rocking-horror-cocktail-show/
CATEGORIES:Thursday Themes
ATTACH;FMTTYPE=image/jpeg:https://www.thebillericaytheatre.co.uk/wp-content/uploads/iStock-123664998-scaled.jpg
END:VEVENT
BEGIN:VEVENT
DTSTART;VALUE=DATE:20221022
DTEND;VALUE=DATE:20221023
DTSTAMP:20260423T101521
CREATED:20220614T103620Z
LAST-MODIFIED:20220614T103620Z
UID:1251-1666396800-1666483199@www.thebillericaytheatre.co.uk
SUMMARY:George Michael Tribute Show
DESCRIPTION:An evening dedicated to the legend that is George Michael.  \nWe simply can’t wait for Mat to bring his ‘Totally George Michael’ tribute show to our theatre this October. \nCabaret seating – Table service – Food served from our ‘Theatre Bites’ menu throughout. \nDoors 7pm/Show 8pm \nTickets £24 \nBook OnlineBook Now Call 01277 655 861
URL:https://www.thebillericaytheatre.co.uk/show/george-michael-tribute-show/
CATEGORIES:Saturday Shows
ATTACH;FMTTYPE=image/jpeg:https://www.thebillericaytheatre.co.uk/wp-content/uploads/GM2.jpg
END:VEVENT
BEGIN:VEVENT
DTSTART;VALUE=DATE:20221023
DTEND;VALUE=DATE:20221024
DTSTAMP:20260423T101521
CREATED:20220617T151509Z
LAST-MODIFIED:20220617T151509Z
UID:1263-1666483200-1666569599@www.thebillericaytheatre.co.uk
SUMMARY:Sunday Soiree\, Acoustic Pop with Joe
DESCRIPTION:‘Acoustic Pop with Joe’  \nThe always popular Joe Scripps is back again so expect this to be another fantastic afternoon of music. \nCabaret style seating – Food served from our ‘Theatre Bites’ menu throughout – 2 hour show \nDoors open 3pm/Performance 4pm \nTickets £12 \nBook OnlineBook Now Call 01277 655 861
URL:https://www.thebillericaytheatre.co.uk/show/sunday-soiree-acoustic-pop-with-joe/
CATEGORIES:Sunday Soiree
ATTACH;FMTTYPE=image/jpeg:https://www.thebillericaytheatre.co.uk/wp-content/uploads/Joe-Scripps.jpg
END:VEVENT
BEGIN:VEVENT
DTSTART;VALUE=DATE:20221027
DTEND;VALUE=DATE:20221028
DTSTAMP:20260423T101521
CREATED:20220618T142621Z
LAST-MODIFIED:20220618T142621Z
UID:1282-1666828800-1666915199@www.thebillericaytheatre.co.uk
SUMMARY:General Knowledge Quiz Night
DESCRIPTION:Our Quiz Night takes place inside the Theatre on the last Thursday of every month!  \nTeams of up to 6 \n£30 Theatre Bar & Cafe voucher to the winning team \nTable service for drinks – Food served from our ‘Theatre Bites’ menu throughout \nDoors open 6pm/Starts 7pm \n£5 per person \nBook OnlineBook Now Call 01277 655 861
URL:https://www.thebillericaytheatre.co.uk/show/general-knowledge-quiz-night-9/
CATEGORIES:Thursday Themes
ATTACH;FMTTYPE=image/jpeg:https://www.thebillericaytheatre.co.uk/wp-content/uploads/Quiz-Night.jpg
END:VEVENT
BEGIN:VEVENT
DTSTART;VALUE=DATE:20221028
DTEND;VALUE=DATE:20221029
DTSTAMP:20260423T101521
CREATED:20220526T124950Z
LAST-MODIFIED:20220609T143640Z
UID:1180-1666915200-1667001599@www.thebillericaytheatre.co.uk
SUMMARY:Halloween Ball with the Showtime Squad
DESCRIPTION:A special\, SPOOKY Family Friday!  \nLive show\, party games & disco. \nJoin The Showtime Squad for a Halloween themed evening of entertainment. \nHot food available. \nDoors 6pm/Show 6.30pm \nChild £7.50 Adult £10 \n  \n  \nBook OnlineBook Now Call 01277 655 861
URL:https://www.thebillericaytheatre.co.uk/show/halloween-ball-with-the-showtime-squad/
CATEGORIES:Friday Fun,Theatre Kidz!
ATTACH;FMTTYPE=image/jpeg:https://www.thebillericaytheatre.co.uk/wp-content/uploads/Halloween.jpg
END:VEVENT
BEGIN:VEVENT
DTSTART;VALUE=DATE:20221030
DTEND;VALUE=DATE:20221031
DTSTAMP:20260423T101521
CREATED:20220613T134129Z
LAST-MODIFIED:20220618T145019Z
UID:1243-1667088000-1667174399@www.thebillericaytheatre.co.uk
SUMMARY:Sunday Soiree Special\, Happy Dog Band
DESCRIPTION:‘Happy Dog Band’  \n**A Sunday Soiree Special** \nOur favourite 4 piece band are back to perform a great mixture of classic tunes from the 50’s right through to the modern hits of today. Featuring the amazing lead vocals of Gary Benjafield. \nCabaret style seating – Food served from our ‘Theatre Bites’ menu throughout – 3 hour show \nDoors open 3pm/Performance 4pm \nTickets £18 \nBook OnlineBook Now Call 01277 655 861
URL:https://www.thebillericaytheatre.co.uk/show/sunday-soiree-special-happy-dog-band/
CATEGORIES:Sunday Soiree
ATTACH;FMTTYPE=image/jpeg:https://www.thebillericaytheatre.co.uk/wp-content/uploads/Happy-Dog-cropped.jpg
END:VEVENT
END:VCALENDAR