BEGIN:VCALENDAR
VERSION:2.0
PRODID:-//Billericay Theatre - ECPv6.15.20//NONSGML v1.0//EN
CALSCALE:GREGORIAN
METHOD:PUBLISH
X-ORIGINAL-URL:https://www.thebillericaytheatre.co.uk
X-WR-CALDESC:Events for Billericay Theatre
REFRESH-INTERVAL;VALUE=DURATION:PT1H
X-Robots-Tag:noindex
X-PUBLISHED-TTL:PT1H
BEGIN:VTIMEZONE
TZID:Europe/London
BEGIN:DAYLIGHT
TZOFFSETFROM:+0000
TZOFFSETTO:+0100
TZNAME:BST
DTSTART:20210328T010000
END:DAYLIGHT
BEGIN:STANDARD
TZOFFSETFROM:+0100
TZOFFSETTO:+0000
TZNAME:GMT
DTSTART:20211031T010000
END:STANDARD
BEGIN:DAYLIGHT
TZOFFSETFROM:+0000
TZOFFSETTO:+0100
TZNAME:BST
DTSTART:20220327T010000
END:DAYLIGHT
BEGIN:STANDARD
TZOFFSETFROM:+0100
TZOFFSETTO:+0000
TZNAME:GMT
DTSTART:20221030T010000
END:STANDARD
BEGIN:DAYLIGHT
TZOFFSETFROM:+0000
TZOFFSETTO:+0100
TZNAME:BST
DTSTART:20230326T010000
END:DAYLIGHT
BEGIN:STANDARD
TZOFFSETFROM:+0100
TZOFFSETTO:+0000
TZNAME:GMT
DTSTART:20231029T010000
END:STANDARD
END:VTIMEZONE
BEGIN:VEVENT
DTSTART;VALUE=DATE:20220702
DTEND;VALUE=DATE:20220703
DTSTAMP:20260423T155411
CREATED:20220224T171437Z
LAST-MODIFIED:20220513T143143Z
UID:855-1656720000-1656806399@www.thebillericaytheatre.co.uk
SUMMARY:Amy Winehouse Tribute Show
DESCRIPTION:A tribute to one of the 21st century’s true greats. \nSammy B is perfoming her incredible tribute to the one and only Amy Winehouse. \nCabaret seating – Table service – Food served from our ‘Theatre Bites’ menu throughout. \nDoors 7pm/Show 8pm \nTickets £24 \nBook OnlineBook Now Call 01277 655 861
URL:https://www.thebillericaytheatre.co.uk/show/amy-winehouse-tribute-show/
CATEGORIES:Saturday Shows
ATTACH;FMTTYPE=image/jpeg:https://www.thebillericaytheatre.co.uk/wp-content/uploads/IMG-1361-edit-for-website.jpg
END:VEVENT
BEGIN:VEVENT
DTSTART;VALUE=DATE:20220707
DTEND;VALUE=DATE:20220711
DTSTAMP:20260423T155411
CREATED:20220420T180544Z
LAST-MODIFIED:20220513T143704Z
UID:1060-1657152000-1657497599@www.thebillericaytheatre.co.uk
SUMMARY:HAPA Presents - Thanks Mr Producer
DESCRIPTION:* This is a HAPA Stage School Production * \nJoin HAPA and members of The Billericay Theatre Company in this wonderful performance\, celebrating the songs and musicals of Producer Cameron Mackintosh. \nFeaturing musicals such as Oliver\, Les Miserables\, Mary Poppins\, Oklahoma and more; HAPA students have teamed up with members of The Billericay Theatre Company to create this memorable show. \nBook OnlineBook Now Call 01277 655 861
URL:https://www.thebillericaytheatre.co.uk/show/hapa-presents-thanks-mr-producer/
CATEGORIES:HAPA Performances
ATTACH;FMTTYPE=image/jpeg:https://www.thebillericaytheatre.co.uk/wp-content/uploads/hey-mr-producer-v2-scaled.jpg
END:VEVENT
BEGIN:VEVENT
DTSTART;VALUE=DATE:20220714
DTEND;VALUE=DATE:20220715
DTSTAMP:20260423T155411
CREATED:20220412T122028Z
LAST-MODIFIED:20220513T143519Z
UID:1013-1657756800-1657843199@www.thebillericaytheatre.co.uk
SUMMARY:Concert for Ukraine: The Billericay Theatre Company
DESCRIPTION:Join The Billericay Theatre Company for this spectacular fundraising concert for the continuing crisis in the Ukraine.  \nFeaturing songs from musicals old and new. All profit from ticket sales will be going direct to the Ukraine. \nDoors 6.30pm/Show 7.30pm \nTickets £20 \nBook OnlineBook Now Call 01277 655 861
URL:https://www.thebillericaytheatre.co.uk/show/the-billericay-theatre-company-charity-fundraising-concert-for-ukraine/
CATEGORIES:Thursday Themes
ATTACH;FMTTYPE=image/jpeg:https://www.thebillericaytheatre.co.uk/wp-content/uploads/istockphoto-1369393690-612x612-1.jpg
END:VEVENT
BEGIN:VEVENT
DTSTART;VALUE=DATE:20220716
DTEND;VALUE=DATE:20220717
DTSTAMP:20260423T155411
CREATED:20220226T120342Z
LAST-MODIFIED:20220513T143143Z
UID:861-1657929600-1658015999@www.thebillericaytheatre.co.uk
SUMMARY:Jukebox Party Band
DESCRIPTION:Come dance the night away…  \nA fantastic non-stop show of classic hits from across the decades. You’ll be up dancing and singing along to all your favorite songs from the 60s\, 70s\, 80s and the 90s plus Soul\, Motown and a bit of Rock n Roll! \nCabaret seating – Table service – Food served from our ‘Theatre Bites’ menu throughout. \nDoors 7pm/Show 8pm \nTickets £24 \nBook OnlineBook Now Call 01277 655 861
URL:https://www.thebillericaytheatre.co.uk/show/jukebox-party-band/
CATEGORIES:Saturday Shows
ATTACH;FMTTYPE=image/jpeg:https://www.thebillericaytheatre.co.uk/wp-content/uploads/Jukebox-Party-Band-52-cropped.jpg
END:VEVENT
BEGIN:VEVENT
DTSTART;VALUE=DATE:20220717
DTEND;VALUE=DATE:20220718
DTSTAMP:20260423T155411
CREATED:20220405T143824Z
LAST-MODIFIED:20220618T144655Z
UID:1005-1658016000-1658102399@www.thebillericaytheatre.co.uk
SUMMARY:Sunday Soiree\, Pop & Soul with Aaron
DESCRIPTION:‘Pop & Soul with Aaron’ \nCabaret style seating – Food served from our ‘Theatre Bites’ menu throughout – 2 hour show \nDoors open 3pm/Performance 4pm \nTickets £12 \nBook OnlineBook Now Call 01277 655 861
URL:https://www.thebillericaytheatre.co.uk/show/sunday-soiree-soul-pop-with-aaron/
CATEGORIES:Sunday Soiree
ATTACH;FMTTYPE=image/jpeg:https://www.thebillericaytheatre.co.uk/wp-content/uploads/Aaron-promo-2-cropped.jpg
END:VEVENT
BEGIN:VEVENT
DTSTART;VALUE=DATE:20220721
DTEND;VALUE=DATE:20220722
DTSTAMP:20260423T155411
CREATED:20220426T135233Z
LAST-MODIFIED:20220513T143210Z
UID:1065-1658361600-1658447999@www.thebillericaytheatre.co.uk
SUMMARY:Paella & Prosecco
DESCRIPTION:Join us for a Mediterranean themed evening at The Billericay Theatre.  \nPaella & a glass of Prosecco plus live music! \nPrice £20 per person. \nDoors 6.30pm/Event 7.30pm \nPaella options: Meat (chicken)\, Mixed (chicken and seafood) and Vegetable (vg) \nBook OnlineBook Now Call 01277 655 861
URL:https://www.thebillericaytheatre.co.uk/show/paella-prosecco-2/
CATEGORIES:Thursday Themes
ATTACH;FMTTYPE=image/jpeg:https://www.thebillericaytheatre.co.uk/wp-content/uploads/Paella-prosecco.jpg
END:VEVENT
BEGIN:VEVENT
DTSTART;VALUE=DATE:20220724
DTEND;VALUE=DATE:20220725
DTSTAMP:20260423T155411
CREATED:20220405T144334Z
LAST-MODIFIED:20220718T110618Z
UID:1007-1658620800-1658707199@www.thebillericaytheatre.co.uk
SUMMARY:Sunday Soiree\, Adele & Friends with Stacey
DESCRIPTION:‘Adele & Friends with Stacey’ \nCabaret style seating – Food served from our ‘Theatre Bites’ menu throughout – 2 hour show \nDoors open 3pm/Performance 4pm \nTickets £12 \nBook OnlineBook Now Call 01277 655 861
URL:https://www.thebillericaytheatre.co.uk/show/sunday-soiree-adele-friends-with-stacey/
CATEGORIES:Sunday Soiree
ATTACH;FMTTYPE=image/jpeg:https://www.thebillericaytheatre.co.uk/wp-content/uploads/adele-1.jpg
END:VEVENT
BEGIN:VEVENT
DTSTART;VALUE=DATE:20220728
DTEND;VALUE=DATE:20220729
DTSTAMP:20260423T155411
CREATED:20220520T145500Z
LAST-MODIFIED:20220520T145654Z
UID:1132-1658966400-1659052799@www.thebillericaytheatre.co.uk
SUMMARY:General Knowledge Quiz Night
DESCRIPTION:Our Quiz Night takes place inside the Theatre on the last Thursday of every month! \nTeams of up to 6  \n£30 Theatre Bar & Cafe voucher to the winning team \nTable service for drinks – Food served from our ‘Theatre Bites’ menu throughout \nDoors open 6pm/Starts 7pm \n£5 per person \nBook OnlineBook Now Call 01277 655 861
URL:https://www.thebillericaytheatre.co.uk/show/general-knowledge-quiz-night-6/
CATEGORIES:Thursday Themes
ATTACH;FMTTYPE=image/jpeg:https://www.thebillericaytheatre.co.uk/wp-content/uploads/Quiz-Night.jpg
END:VEVENT
BEGIN:VEVENT
DTSTART;VALUE=DATE:20220730
DTEND;VALUE=DATE:20220731
DTSTAMP:20260423T155411
CREATED:20220416T144806Z
LAST-MODIFIED:20220513T143143Z
UID:1030-1659139200-1659225599@www.thebillericaytheatre.co.uk
SUMMARY:The Fawlty Towers Comedy Dinner Show
DESCRIPTION:A must for fans of Fawlty Towers! \nEat in restaurant run by Basil\, Sybil and Manuel where the characters serve their guests a hilarious 3 course dinner. \nThe CHEF’S DRUNK\, there’s a RAT on the loose\, the HEALTH INSPECTOR is on his way and a GNOME has just turned up in the restaurant. Basil only manages to make matters worse\, Sybil has been hitting the brandy and Manuel is… Well\, he’s just Manuel. \nFire drills\, Germans\, kippers and corpses. With everything building to a typically Fawlty Towers climax. Just don’t mention the war! \nDoors 7pm/Show 7.30pm \nTickets £33.50 (includes 3 course meal – menu below) \n\nStarter choices: Tomato & Basil Soup (vg) or Chicken liver pate \nMain choices: Chicken Supreme with new potatoes & green veg or Vegetable quiche with salad & coleslaw (vg) \nDessert choices: Lemon Cheesecake or Vegan Chocolate tart (vg) \nBook OnlineBook Now Call 01277 655 861
URL:https://www.thebillericaytheatre.co.uk/show/the-fawlty-towers-comedy-dinner-show/
CATEGORIES:Saturday Shows
ATTACH;FMTTYPE=image/jpeg:https://www.thebillericaytheatre.co.uk/wp-content/uploads/Stonham-Barns-Faulty-Towers-163-scaled.jpg
END:VEVENT
BEGIN:VEVENT
DTSTART;VALUE=DATE:20220731
DTEND;VALUE=DATE:20220801
DTSTAMP:20260423T155411
CREATED:20220205T154847Z
LAST-MODIFIED:20220519T163906Z
UID:717-1659225600-1659311999@www.thebillericaytheatre.co.uk
SUMMARY:Sunday Soiree\, Movies & Musicals with Ella
DESCRIPTION:‘Movies & Musicals with Ella’   \nThe Billericay Theatre’s very own Ella will be performing hits from classic movies and musicals from across the years. \nCabaret style seating – Food served from our ‘Theatre Bites’ menu throughout – 2 hour show \nDoors open 3pm/Performance 4pm \nTickets £12 \nBook OnlineBook Now Call 01277 655 861
URL:https://www.thebillericaytheatre.co.uk/show/sunday-soiree-live-music-in-a-cabaret-setting-every-sunday-afternoon-9/
CATEGORIES:Sunday Soiree
ATTACH;FMTTYPE=image/jpeg:https://www.thebillericaytheatre.co.uk/wp-content/uploads/Ella-scaled.jpg
END:VEVENT
END:VCALENDAR