BEGIN:VCALENDAR
VERSION:2.0
PRODID:-//Billericay Theatre - ECPv6.15.20//NONSGML v1.0//EN
CALSCALE:GREGORIAN
METHOD:PUBLISH
X-ORIGINAL-URL:https://www.thebillericaytheatre.co.uk
X-WR-CALDESC:Events for Billericay Theatre
REFRESH-INTERVAL;VALUE=DURATION:PT1H
X-Robots-Tag:noindex
X-PUBLISHED-TTL:PT1H
BEGIN:VTIMEZONE
TZID:Europe/London
BEGIN:DAYLIGHT
TZOFFSETFROM:+0000
TZOFFSETTO:+0100
TZNAME:BST
DTSTART:20210328T010000
END:DAYLIGHT
BEGIN:STANDARD
TZOFFSETFROM:+0100
TZOFFSETTO:+0000
TZNAME:GMT
DTSTART:20211031T010000
END:STANDARD
BEGIN:DAYLIGHT
TZOFFSETFROM:+0000
TZOFFSETTO:+0100
TZNAME:BST
DTSTART:20220327T010000
END:DAYLIGHT
BEGIN:STANDARD
TZOFFSETFROM:+0100
TZOFFSETTO:+0000
TZNAME:GMT
DTSTART:20221030T010000
END:STANDARD
BEGIN:DAYLIGHT
TZOFFSETFROM:+0000
TZOFFSETTO:+0100
TZNAME:BST
DTSTART:20230326T010000
END:DAYLIGHT
BEGIN:STANDARD
TZOFFSETFROM:+0100
TZOFFSETTO:+0000
TZNAME:GMT
DTSTART:20231029T010000
END:STANDARD
END:VTIMEZONE
BEGIN:VEVENT
DTSTART;VALUE=DATE:20220206
DTEND;VALUE=DATE:20220207
DTSTAMP:20260424T000931
CREATED:20220110T143429Z
LAST-MODIFIED:20220110T220903Z
UID:563-1644105600-1644191999@www.thebillericaytheatre.co.uk
SUMMARY:Into the Stars
DESCRIPTION:“Into the Stars – a musical journey to another world! \n \nSophisticated Entertainment invites you on a secret space mission to save the universe and journey deep into the galaxy. \n \nGet your space guns at the ready as we need your help! \n \nJoin our production cast of incredibly talented Singers & Dancers as we embark on this immersive journey!” \nBook OnlineBook Now Call 01277 655 861
URL:https://www.thebillericaytheatre.co.uk/show/into-the-stars/
END:VEVENT
BEGIN:VEVENT
DTSTART;VALUE=DATE:20220219
DTEND;VALUE=DATE:20220220
DTSTAMP:20260424T000931
CREATED:20211201T153536Z
LAST-MODIFIED:20220129T183944Z
UID:534-1645228800-1645315199@www.thebillericaytheatre.co.uk
SUMMARY:The Greatest Show Team - Through the Decades
DESCRIPTION:Join The Billericay Theatre Company’s Greatest Show Team for an incredible night through the decades. \nAn incredible show celebrating all the best loved numbers from the 40’s right through to the current day. \nTickets £24 per adult and £18 per child \n7:30pm Show Saturday 19th February \nBook OnlineBook Now Call 01277 655 861
URL:https://www.thebillericaytheatre.co.uk/show/the-greatest-show-team-through-the-decades/
END:VEVENT
BEGIN:VEVENT
DTSTART;VALUE=DATE:20220224
DTEND;VALUE=DATE:20220225
DTSTAMP:20260424T000931
CREATED:20220113T140936Z
LAST-MODIFIED:20220204T162539Z
UID:580-1645660800-1645747199@www.thebillericaytheatre.co.uk
SUMMARY:General Knowledge Quiz Night
DESCRIPTION:Our Quiz Night takes place inside the Theatre on the last Thursday of every month!  \nTeams of up to 6 \n£30 Theatre Bar & Cafe voucher to the winning team \nTable service for drinks – Food served from our ‘Theatre Bites’ menu throughout \nDoors open 6pm/Starts 7pm \n£5 per person \nBook OnlineBook Now Call 01277 655 861
URL:https://www.thebillericaytheatre.co.uk/show/general-knowledge-quiz-night/
ATTACH;FMTTYPE=image/jpeg:https://www.thebillericaytheatre.co.uk/wp-content/uploads/Quiz-Night.jpg
END:VEVENT
END:VCALENDAR