BEGIN:VCALENDAR
VERSION:2.0
PRODID:-//Billericay Theatre - ECPv6.15.20//NONSGML v1.0//EN
CALSCALE:GREGORIAN
METHOD:PUBLISH
X-WR-CALNAME:Billericay Theatre
X-ORIGINAL-URL:https://www.thebillericaytheatre.co.uk
X-WR-CALDESC:Events for Billericay Theatre
REFRESH-INTERVAL;VALUE=DURATION:PT1H
X-Robots-Tag:noindex
X-PUBLISHED-TTL:PT1H
BEGIN:VTIMEZONE
TZID:Europe/London
BEGIN:DAYLIGHT
TZOFFSETFROM:+0000
TZOFFSETTO:+0100
TZNAME:BST
DTSTART:20250330T010000
END:DAYLIGHT
BEGIN:STANDARD
TZOFFSETFROM:+0100
TZOFFSETTO:+0000
TZNAME:GMT
DTSTART:20251026T010000
END:STANDARD
BEGIN:DAYLIGHT
TZOFFSETFROM:+0000
TZOFFSETTO:+0100
TZNAME:BST
DTSTART:20260329T010000
END:DAYLIGHT
BEGIN:STANDARD
TZOFFSETFROM:+0100
TZOFFSETTO:+0000
TZNAME:GMT
DTSTART:20261025T010000
END:STANDARD
BEGIN:DAYLIGHT
TZOFFSETFROM:+0000
TZOFFSETTO:+0100
TZNAME:BST
DTSTART:20270328T010000
END:DAYLIGHT
BEGIN:STANDARD
TZOFFSETFROM:+0100
TZOFFSETTO:+0000
TZNAME:GMT
DTSTART:20271031T010000
END:STANDARD
END:VTIMEZONE
BEGIN:VEVENT
DTSTART;VALUE=DATE:20261210
DTEND;VALUE=DATE:20261225
DTSTAMP:20260424T095630
CREATED:20260417T085415Z
LAST-MODIFIED:20260417T085508Z
UID:3347-1796860800-1798156799@www.thebillericaytheatre.co.uk
SUMMARY:Goldilocks and the Three Bears Christmas Pantomime
DESCRIPTION:It’s back! The Billericay Theatre Company’s take on a traditional pantomime returns for its eighth year. Enjoy the familiar tale of Goldilocks and the Three Bears with twists and turns along the way. \nThis year we are thrilled to introduce our new side stage seating to give an even more immersive feel. Every seat still comes with a fantastic view \nFun for all the family! \nRecommended for ages 3+ \nAdult £28.50 per person \nChild (ages 3-15) £24.50 per person\n \nDoors will open 1hr prior to performance times. Please ensure you arrive ready for your performance start time. \nAll tickets subject to a booking fee \nBook OnlineBook Now Call 01277 655 861
URL:https://www.thebillericaytheatre.co.uk/show/goldilocks-and-the-three-bears-christmas-pantomime/
CATEGORIES:Theatre Kidz!,Theatre Productions
ATTACH;FMTTYPE=image/jpeg:https://www.thebillericaytheatre.co.uk/wp-content/uploads/ChatGPT-Image-Apr-16-2026-at-08_46_16-PM.jpg
END:VEVENT
END:VCALENDAR